BEGIN:VCALENDAR
VERSION:2.0
BEGIN:VEVENT
DTSTART;TZID=Europe/Stockholm:20280313T140000
DTEND;TZID=Europe/Stockholm:20280313T150000
DTSTAMP:20260420T012153
DESCRIPTION:
SEQUENCE:0
SUMMARY:*Stavgång i Kronoskogen*
UID:7852@lawebb.se
END:VEVENT
END:VCALENDAR