BEGIN:VCALENDAR
VERSION:2.0
BEGIN:VEVENT
DTSTART;TZID=Europe/Stockholm:20280306T140000
DTEND;TZID=Europe/Stockholm:20280306T150000
DTSTAMP:20260420T012638
DESCRIPTION:
SEQUENCE:0
SUMMARY:*Stavgång i Kronoskogen*
UID:4669@lawebb.se
END:VEVENT
END:VCALENDAR