BEGIN:VCALENDAR
VERSION:2.0
BEGIN:VEVENT
DTSTART;TZID=Europe/Stockholm:20280228T140000
DTEND;TZID=Europe/Stockholm:20280228T150000
DTSTAMP:20260419T234259
DESCRIPTION:
SEQUENCE:0
SUMMARY:*Stavgång i Kronoskogen*
UID:2454@lawebb.se
END:VEVENT
END:VCALENDAR