BEGIN:VCALENDAR
VERSION:2.0
BEGIN:VEVENT
DTSTART;TZID=Europe/Stockholm:20280221T140000
DTEND;TZID=Europe/Stockholm:20280221T150000
DTSTAMP:20260419T234842
DESCRIPTION:
SEQUENCE:0
SUMMARY:*Stavgång i Kronoskogen*
UID:9539@lawebb.se
END:VEVENT
END:VCALENDAR