BEGIN:VCALENDAR
VERSION:2.0
BEGIN:VEVENT
DTSTART;TZID=Europe/Stockholm:20280207T140000
DTEND;TZID=Europe/Stockholm:20280207T150000
DTSTAMP:20260419T234514
DESCRIPTION:
SEQUENCE:0
SUMMARY:*Stavgång i Kronoskogen*
UID:6722@lawebb.se
END:VEVENT
END:VCALENDAR