BEGIN:VCALENDAR
VERSION:2.0
BEGIN:VEVENT
DTSTART;TZID=Europe/Stockholm:20280110T140000
DTEND;TZID=Europe/Stockholm:20280110T150000
DTSTAMP:20260419T221613
DESCRIPTION:
SEQUENCE:0
SUMMARY:*Stavgång i Kronoskogen*
UID:4666@lawebb.se
END:VEVENT
END:VCALENDAR