BEGIN:VCALENDAR
VERSION:2.0
BEGIN:VEVENT
DTSTART;TZID=Europe/Stockholm:20271227T140000
DTEND;TZID=Europe/Stockholm:20271227T150000
DTSTAMP:20260419T205122
DESCRIPTION:
SEQUENCE:0
SUMMARY:*Stavgång i Kronoskogen*
UID:3438@lawebb.se
END:VEVENT
END:VCALENDAR