BEGIN:VCALENDAR
VERSION:2.0
BEGIN:VEVENT
DTSTART;TZID=Europe/Stockholm:20271206T140000
DTEND;TZID=Europe/Stockholm:20271206T150000
DTSTAMP:20260419T204922
DESCRIPTION:
SEQUENCE:0
SUMMARY:*Stavgång i Kronoskogen*
UID:6858@lawebb.se
END:VEVENT
END:VCALENDAR