BEGIN:VCALENDAR
VERSION:2.0
BEGIN:VEVENT
DTSTART;TZID=Europe/Stockholm:20271108T140000
DTEND;TZID=Europe/Stockholm:20271108T150000
DTSTAMP:20260419T191941
DESCRIPTION:
SEQUENCE:0
SUMMARY:*Stavgång i Kronoskogen*
UID:8299@lawebb.se
END:VEVENT
END:VCALENDAR