BEGIN:VCALENDAR
VERSION:2.0
BEGIN:VEVENT
DTSTART;TZID=Europe/Stockholm:20271011T140000
DTEND;TZID=Europe/Stockholm:20271011T150000
DTSTAMP:20260419T174748
DESCRIPTION:
SEQUENCE:0
SUMMARY:*Stavgång i Kronoskogen*
UID:2725@lawebb.se
END:VEVENT
END:VCALENDAR