BEGIN:VCALENDAR
VERSION:2.0
BEGIN:VEVENT
DTSTART;TZID=Europe/Stockholm:20271004T140000
DTEND;TZID=Europe/Stockholm:20271004T150000
DTSTAMP:20260419T174849
DESCRIPTION:
SEQUENCE:0
SUMMARY:*Stavgång i Kronoskogen*
UID:9583@lawebb.se
END:VEVENT
END:VCALENDAR