BEGIN:VCALENDAR
VERSION:2.0
BEGIN:VEVENT
DTSTART;TZID=Europe/Stockholm:20270927T140000
DTEND;TZID=Europe/Stockholm:20270927T150000
DTSTAMP:20260419T164406
DESCRIPTION:
SEQUENCE:0
SUMMARY:*Stavgång i Kronoskogen*
UID:4483@lawebb.se
END:VEVENT
END:VCALENDAR