BEGIN:VCALENDAR
VERSION:2.0
BEGIN:VEVENT
DTSTART;TZID=Europe/Stockholm:20270823T140000
DTEND;TZID=Europe/Stockholm:20270823T150000
DTSTAMP:20260419T150958
DESCRIPTION:
SEQUENCE:0
SUMMARY:*Stavgång i Kronoskogen*
UID:6976@lawebb.se
END:VEVENT
END:VCALENDAR