BEGIN:VCALENDAR
VERSION:2.0
BEGIN:VEVENT
DTSTART;TZID=Europe/Stockholm:20250220T140000
DTEND;TZID=Europe/Stockholm:20250220T150000
DTSTAMP:20260421T102843
DESCRIPTION:Årsmöte, Parentation, Rpg kören sjunger för oss. Information av Dan Krantz från Hörselfrämjanden
Servering
Leif Nilsson leder träffen
SEQUENCE:0
SUMMARY:RPG träff i Allianskyrkan
UID:6872@lawebb.se
END:VEVENT
END:VCALENDAR