BEGIN:VCALENDAR
VERSION:2.0
BEGIN:VEVENT
DTSTART;TZID=Europe/Stockholm:20250217T000000
DTEND;TZID=Europe/Stockholm:20250217T240000
DTSTAMP:20260421T102913
DESCRIPTION:senast den 17 febr. till Leif eller Jan-Erik
SEQUENCE:0
SUMMARY:Anmälan till Dist. Vårträff
UID:5782@lawebb.se
END:VEVENT
END:VCALENDAR