BEGIN:VCALENDAR
VERSION:2.0
BEGIN:VEVENT
DTSTART;TZID=Europe/Stockholm:20250120T140000
DTEND;TZID=Europe/Stockholm:20250120T150000
DTSTAMP:20260421T115010
DESCRIPTION:
SEQUENCE:0
SUMMARY:*Stavgång i Kronoskogen*
UID:8226@lawebb.se
END:VEVENT
END:VCALENDAR