BEGIN:VCALENDAR
VERSION:2.0
BEGIN:VEVENT
DTSTART;TZID=Europe/Stockholm:20250116T140000
DTEND;TZID=Europe/Stockholm:20250116T150000
DTSTAMP:20260421T114434
DESCRIPTION:Carina Jarlsbonde Kommer och spelar en teaterpjäs om Frälsningsarmens grundare i Sverige Hanna Cordelia Quchterlony från Värnamo
Servering
Roy Hagberg leder samlingen
SEQUENCE:0
SUMMARY:RPG träff i Pingstkyrkan
UID:6683@lawebb.se
END:VEVENT
END:VCALENDAR