BEGIN:VCALENDAR
VERSION:2.0
BEGIN:VEVENT
DTSTART;TZID=Europe/Stockholm:20250113T093000
DTEND;TZID=Europe/Stockholm:20250113T103000
DTSTAMP:20260421T114917
DESCRIPTION:Hos Jan-Erik
SEQUENCE:0
SUMMARY:RPG:s  Styrelsemöte
UID:4253@lawebb.se
END:VEVENT
END:VCALENDAR