BEGIN:VCALENDAR
VERSION:2.0
BEGIN:VEVENT
DTSTART;TZID=Europe/Stockholm:20250106T140000
DTEND;TZID=Europe/Stockholm:20250106T150000
DTSTAMP:20260421T114939
DESCRIPTION:
SEQUENCE:0
SUMMARY:*Stavgång i Kronoskogen*
UID:2375@lawebb.se
END:VEVENT
END:VCALENDAR